BEGIN:VCALENDAR
VERSION:2.0
PRODID:-//Support Services Group - ECPv6.15.14//NONSGML v1.0//EN
CALSCALE:GREGORIAN
METHOD:PUBLISH
X-ORIGINAL-URL:https://ssgns.ca
X-WR-CALDESC:Events for Support Services Group
REFRESH-INTERVAL;VALUE=DURATION:PT1H
X-Robots-Tag:noindex
X-PUBLISHED-TTL:PT1H
BEGIN:VTIMEZONE
TZID:America/Halifax
BEGIN:DAYLIGHT
TZOFFSETFROM:-0400
TZOFFSETTO:-0300
TZNAME:ADT
DTSTART:20210314T060000
END:DAYLIGHT
BEGIN:STANDARD
TZOFFSETFROM:-0300
TZOFFSETTO:-0400
TZNAME:AST
DTSTART:20211107T050000
END:STANDARD
BEGIN:DAYLIGHT
TZOFFSETFROM:-0400
TZOFFSETTO:-0300
TZNAME:ADT
DTSTART:20220313T060000
END:DAYLIGHT
BEGIN:STANDARD
TZOFFSETFROM:-0300
TZOFFSETTO:-0400
TZNAME:AST
DTSTART:20221106T050000
END:STANDARD
BEGIN:DAYLIGHT
TZOFFSETFROM:-0400
TZOFFSETTO:-0300
TZNAME:ADT
DTSTART:20230312T060000
END:DAYLIGHT
BEGIN:STANDARD
TZOFFSETFROM:-0300
TZOFFSETTO:-0400
TZNAME:AST
DTSTART:20231105T050000
END:STANDARD
END:VTIMEZONE
BEGIN:VEVENT
DTSTART;TZID=America/Halifax:20221005T090000
DTEND;TZID=America/Halifax:20221005T140000
DTSTAMP:20260422T155243
CREATED:20220726T224323Z
LAST-MODIFIED:20220726T224720Z
UID:1246-1664960400-1664978400@ssgns.ca
SUMMARY:MANDT zoom Training
DESCRIPTION:
URL:https://ssgns.ca/event/mandt-zoom-training-3/
CATEGORIES:Mandt
END:VEVENT
BEGIN:VEVENT
DTSTART;TZID=America/Halifax:20220726T160000
DTEND;TZID=America/Halifax:20220726T200000
DTSTAMP:20260422T155243
CREATED:20220726T222949Z
LAST-MODIFIED:20220726T222949Z
UID:1233-1658851200-1658865600@ssgns.ca
SUMMARY:Evening Zoom MANDT Training
DESCRIPTION:
URL:https://ssgns.ca/event/evening-zoom-mandt-training/
CATEGORIES:Mandt
END:VEVENT
BEGIN:VEVENT
DTSTART;TZID=America/Halifax:20220720T090000
DTEND;TZID=America/Halifax:20220720T140000
DTSTAMP:20260422T155243
CREATED:20220620T154420Z
LAST-MODIFIED:20220620T154420Z
UID:1214-1658307600-1658325600@ssgns.ca
SUMMARY:Mandt Online
DESCRIPTION:
URL:https://ssgns.ca/event/mandt-online-2/
CATEGORIES:Mandt
END:VEVENT
BEGIN:VEVENT
DTSTART;TZID=America/Halifax:20220706T090000
DTEND;TZID=America/Halifax:20220706T140000
DTSTAMP:20260422T155243
CREATED:20220620T154309Z
LAST-MODIFIED:20220620T154309Z
UID:1212-1657098000-1657116000@ssgns.ca
SUMMARY:Mandt Online
DESCRIPTION:
URL:https://ssgns.ca/event/mandt-online/
CATEGORIES:Mandt
END:VEVENT
BEGIN:VEVENT
DTSTART;TZID=America/Halifax:20220622T090000
DTEND;TZID=America/Halifax:20220622T140000
DTSTAMP:20260422T155243
CREATED:20220524T172303Z
LAST-MODIFIED:20220524T174205Z
UID:1193-1655888400-1655906400@ssgns.ca
SUMMARY:Mandt Training on zoom
DESCRIPTION:
URL:https://ssgns.ca/event/mental-health-a-working-mind-4/
CATEGORIES:Mandt
END:VEVENT
BEGIN:VEVENT
DTSTART;TZID=America/Halifax:20220601T100000
DTEND;TZID=America/Halifax:20220601T160000
DTSTAMP:20260422T155243
CREATED:20220524T171733Z
LAST-MODIFIED:20220524T175649Z
UID:1185-1654077600-1654099200@ssgns.ca
SUMMARY:Mandt Training
DESCRIPTION:In person at the Valley office
URL:https://ssgns.ca/event/mandt-training-12/
CATEGORIES:Mandt
END:VEVENT
BEGIN:VEVENT
DTSTART;TZID=America/Halifax:20220526T100000
DTEND;TZID=America/Halifax:20220526T160000
DTSTAMP:20260422T155243
CREATED:20220524T171428Z
LAST-MODIFIED:20220524T180121Z
UID:1181-1653559200-1653580800@ssgns.ca
SUMMARY:Mandt Training
DESCRIPTION:In person training at the Valley Office
URL:https://ssgns.ca/event/mandt-training-11/
CATEGORIES:Mandt
END:VEVENT
BEGIN:VEVENT
DTSTART;TZID=America/Halifax:20220426T090000
DTEND;TZID=America/Halifax:20220426T160000
DTSTAMP:20260422T155243
CREATED:20220208T163143Z
LAST-MODIFIED:20220208T163143Z
UID:1123-1650963600-1650988800@ssgns.ca
SUMMARY:MANDT Training
DESCRIPTION:
URL:https://ssgns.ca/event/mandt-training-10/
LOCATION:Zoom
CATEGORIES:Mandt
ORGANIZER;CN="Nicole Picklyk":MAILTO:npicklyk@ssgns.ca
END:VEVENT
BEGIN:VEVENT
DTSTART;TZID=America/Halifax:20220419T090000
DTEND;TZID=America/Halifax:20220419T160000
DTSTAMP:20260422T155243
CREATED:20220208T163110Z
LAST-MODIFIED:20220208T163110Z
UID:1121-1650358800-1650384000@ssgns.ca
SUMMARY:MANDT Training
DESCRIPTION:
URL:https://ssgns.ca/event/mandt-training-9/
LOCATION:Zoom
CATEGORIES:Mandt
ORGANIZER;CN="Nicole Picklyk":MAILTO:npicklyk@ssgns.ca
END:VEVENT
BEGIN:VEVENT
DTSTART;TZID=America/Halifax:20220412T090000
DTEND;TZID=America/Halifax:20220412T160000
DTSTAMP:20260422T155243
CREATED:20220208T163038Z
LAST-MODIFIED:20220208T163038Z
UID:1119-1649754000-1649779200@ssgns.ca
SUMMARY:MANDT Training
DESCRIPTION:
URL:https://ssgns.ca/event/mandt-training-8/
LOCATION:Zoom
CATEGORIES:Mandt
ORGANIZER;CN="Nicole Picklyk":MAILTO:npicklyk@ssgns.ca
END:VEVENT
BEGIN:VEVENT
DTSTART;TZID=America/Halifax:20220315T090000
DTEND;TZID=America/Halifax:20220315T160000
DTSTAMP:20260422T155243
CREATED:20220208T162909Z
LAST-MODIFIED:20220208T162909Z
UID:1117-1647334800-1647360000@ssgns.ca
SUMMARY:MANDT Training
DESCRIPTION:
URL:https://ssgns.ca/event/mandt-training-7/
LOCATION:Zoom
CATEGORIES:Mandt
ORGANIZER;CN="Nicole Picklyk":MAILTO:npicklyk@ssgns.ca
END:VEVENT
BEGIN:VEVENT
DTSTART;TZID=America/Halifax:20220308T090000
DTEND;TZID=America/Halifax:20220308T160000
DTSTAMP:20260422T155243
CREATED:20220208T162830Z
LAST-MODIFIED:20220208T162830Z
UID:1115-1646730000-1646755200@ssgns.ca
SUMMARY:MANDT Training
DESCRIPTION:
URL:https://ssgns.ca/event/mandt-training-6/
LOCATION:Zoom
CATEGORIES:Mandt
ORGANIZER;CN="Nicole Picklyk":MAILTO:npicklyk@ssgns.ca
END:VEVENT
BEGIN:VEVENT
DTSTART;TZID=America/Halifax:20220304T090000
DTEND;TZID=America/Halifax:20220304T160000
DTSTAMP:20260422T155243
CREATED:20220208T162746Z
LAST-MODIFIED:20220208T162746Z
UID:1113-1646384400-1646409600@ssgns.ca
SUMMARY:MANDT Training
DESCRIPTION:
URL:https://ssgns.ca/event/mandt-training-5/
LOCATION:Zoom
CATEGORIES:Mandt
ORGANIZER;CN="Nicole Picklyk":MAILTO:npicklyk@ssgns.ca
END:VEVENT
BEGIN:VEVENT
DTSTART;TZID=America/Halifax:20220225T090000
DTEND;TZID=America/Halifax:20220225T160000
DTSTAMP:20260422T155243
CREATED:20220208T162647Z
LAST-MODIFIED:20220208T162647Z
UID:1111-1645779600-1645804800@ssgns.ca
SUMMARY:MANDT Training
DESCRIPTION:
URL:https://ssgns.ca/event/mandt-training-4/
LOCATION:Zoom
CATEGORIES:Mandt
ORGANIZER;CN="Nicole Picklyk":MAILTO:npicklyk@ssgns.ca
END:VEVENT
BEGIN:VEVENT
DTSTART;TZID=America/Halifax:20220224T090000
DTEND;TZID=America/Halifax:20220224T160000
DTSTAMP:20260422T155243
CREATED:20220208T162535Z
LAST-MODIFIED:20220208T162535Z
UID:1109-1645693200-1645718400@ssgns.ca
SUMMARY:MANDT Training
DESCRIPTION:
URL:https://ssgns.ca/event/mandt-training-3/
LOCATION:Zoom
CATEGORIES:Mandt
ORGANIZER;CN="Nicole Picklyk":MAILTO:npicklyk@ssgns.ca
END:VEVENT
BEGIN:VEVENT
DTSTART;TZID=America/Halifax:20220210T090000
DTEND;TZID=America/Halifax:20220210T160000
DTSTAMP:20260422T155243
CREATED:20220208T162442Z
LAST-MODIFIED:20220208T162442Z
UID:1107-1644483600-1644508800@ssgns.ca
SUMMARY:MANDT Training
DESCRIPTION:
URL:https://ssgns.ca/event/mandt-training-2/
LOCATION:Zoom
CATEGORIES:Mandt
ORGANIZER;CN="Nicole Picklyk":MAILTO:npicklyk@ssgns.ca
END:VEVENT
BEGIN:VEVENT
DTSTART;TZID=America/Halifax:20220208T090000
DTEND;TZID=America/Halifax:20220208T160000
DTSTAMP:20260422T155243
CREATED:20210819T183231Z
LAST-MODIFIED:20220208T162236Z
UID:821-1644310800-1644336000@ssgns.ca
SUMMARY:MANDT Training
DESCRIPTION:
URL:https://ssgns.ca/event/mandt-training/
LOCATION:Zoom
CATEGORIES:Mandt
ORGANIZER;CN="Nicole Picklyk":MAILTO:npicklyk@ssgns.ca
END:VEVENT
END:VCALENDAR